BEGIN:VCALENDAR
VERSION:2.0
PRODID:-//Medizintechnik Bergmann - ECPv6.0.11//NONSGML v1.0//EN
CALSCALE:GREGORIAN
METHOD:PUBLISH
X-WR-CALNAME:Medizintechnik Bergmann
X-ORIGINAL-URL:https://medizintechnik-bergmann.de
X-WR-CALDESC:Veranstaltungen für Medizintechnik Bergmann
REFRESH-INTERVAL;VALUE=DURATION:PT1H
X-Robots-Tag:noindex
X-PUBLISHED-TTL:PT1H
BEGIN:VTIMEZONE
TZID:Europe/Berlin
BEGIN:DAYLIGHT
TZOFFSETFROM:+0100
TZOFFSETTO:+0200
TZNAME:CEST
DTSTART:20230326T010000
END:DAYLIGHT
BEGIN:STANDARD
TZOFFSETFROM:+0200
TZOFFSETTO:+0100
TZNAME:CET
DTSTART:20231029T010000
END:STANDARD
BEGIN:DAYLIGHT
TZOFFSETFROM:+0100
TZOFFSETTO:+0200
TZNAME:CEST
DTSTART:20240331T010000
END:DAYLIGHT
BEGIN:STANDARD
TZOFFSETFROM:+0200
TZOFFSETTO:+0100
TZNAME:CET
DTSTART:20241027T010000
END:STANDARD
BEGIN:DAYLIGHT
TZOFFSETFROM:+0100
TZOFFSETTO:+0200
TZNAME:CEST
DTSTART:20250330T010000
END:DAYLIGHT
BEGIN:STANDARD
TZOFFSETFROM:+0200
TZOFFSETTO:+0100
TZNAME:CET
DTSTART:20251026T010000
END:STANDARD
END:VTIMEZONE
BEGIN:VEVENT
DTSTART;TZID=Europe/Berlin:20251125T130000
DTEND;TZID=Europe/Berlin:20251126T133000
DTSTAMP:20260422T121254
CREATED:20250728T145234Z
LAST-MODIFIED:20250728T145315Z
UID:1151-1764075600-1764163800@medizintechnik-bergmann.de
SUMMARY:cortex Anwender-Workshop 25. und 26. November 2025
DESCRIPTION:Uhrzeit: sh. Anmeldung \nZielgruppe: Interessenten \nVeranstaltungsort: Walter-Köhn-Str. 2d\, 04356 Leipzig \nKosten pro Person: sh. Anmeldung \nAnmeldeschluss: 10.11.2025 \nHier gehts zur Agenda Anwender-Workshop 25.-26.11.2025 \n  \nHier können Sie sich anmelden \n 
URL:https://medizintechnik-bergmann.de/seminar/cortex-anwender-workshop-25-und-26-november-2025/
CATEGORIES:Vor-Ort-Schulung
END:VEVENT
BEGIN:VEVENT
DTSTART;VALUE=DATE:20251104
DTEND;VALUE=DATE:20251105
DTSTAMP:20260422T121254
CREATED:20250210T135649Z
LAST-MODIFIED:20250210T143357Z
UID:1096-1762214400-1762300799@medizintechnik-bergmann.de
SUMMARY:cortex-Webinar "Möglichkeiten der Spiroergometrie"
DESCRIPTION:Uhrzeit: 11:00 Uhr \nZielgruppe: Interessenten \nVeranstaltungsort: Online per Microsoft Teams \nKosten pro Person: kostenlos \n  \nHier anmelden
URL:https://medizintechnik-bergmann.de/seminar/cortex-webinar-moeglichkeiten-der-spiroergometrie-4/
CATEGORIES:Online-Schulung
END:VEVENT
BEGIN:VEVENT
DTSTART;TZID=Europe/Berlin:20251015T143000
DTEND;TZID=Europe/Berlin:20251015T170000
DTSTAMP:20260422T121254
CREATED:20250210T133329Z
LAST-MODIFIED:20250210T142452Z
UID:1080-1760538600-1760547600@medizintechnik-bergmann.de
SUMMARY:Vor-Ort-Schulung "Funktionsdiagnostik Kompakt"
DESCRIPTION:Uhrzeit: 14:30-17:00 Uhr \nZielgruppe: med. Fachangestellte \nVeranstaltungsort: Ostring 5\, 97255 Sonderhofen \nKosten pro Person: 39\,– zzgl. MwSt. \n  \nAnmeldungen sind für diese Veranstaltung geschlossen
URL:https://medizintechnik-bergmann.de/seminar/vor-ort-schulung-funktionsdiagnostik-kompaktostik-kompakt-3/
CATEGORIES:Vor-Ort-Schulung
END:VEVENT
BEGIN:VEVENT
DTSTART;VALUE=DATE:20250902
DTEND;VALUE=DATE:20250903
DTSTAMP:20260422T121254
CREATED:20250210T135354Z
LAST-MODIFIED:20250210T143335Z
UID:1093-1756771200-1756857599@medizintechnik-bergmann.de
SUMMARY:cortex-Webinar "Möglichkeiten der Spiroergometrie"
DESCRIPTION:Uhrzeit: 11:00 Uhr \nZielgruppe: Interessenten \nVeranstaltungsort: Online per Microsoft Teams \nKosten pro Person: kostenlos \n  \nHier anmelden
URL:https://medizintechnik-bergmann.de/seminar/cortex-webinar-moeglichkeiten-der-spiroergometrie-3/
CATEGORIES:Online-Schulung
END:VEVENT
BEGIN:VEVENT
DTSTART;TZID=Europe/Berlin:20250520T130000
DTEND;TZID=Europe/Berlin:20250521T133000
DTSTAMP:20260422T121254
CREATED:20250211T142739Z
LAST-MODIFIED:20250211T143200Z
UID:1122-1747746000-1747834200@medizintechnik-bergmann.de
SUMMARY:CORTEX Anwender-Workshop im Mai 2025
DESCRIPTION:Uhrzeit: sh. Anmeldung \nZielgruppe: Interessenten \nVeranstaltungsort: Walter-Köhn-Str. 2d\, 04356 Leipzig \nKosten pro Person: sh. Anmeldung \nAnmeldeschluss: 09.05.2025 \n \nHier anmelden
URL:https://medizintechnik-bergmann.de/seminar/cortex-webinar-moeglichkeiten-der-spiroergometrie-4-2/
CATEGORIES:Vor-Ort-Schulung
END:VEVENT
BEGIN:VEVENT
DTSTART;TZID=Europe/Berlin:20250516T130000
DTEND;TZID=Europe/Berlin:20250517T170000
DTSTAMP:20260422T121254
CREATED:20250210T141336Z
LAST-MODIFIED:20250210T141550Z
UID:1104-1747400400-1747501200@medizintechnik-bergmann.de
SUMMARY:cortex "Seminar I Theorie Spiroergometrie"
DESCRIPTION:Uhrzeit: sh. Anmeldung \nZielgruppe: Ärztliches Personal/Klinikfachpersonal \nVeranstaltungsort: Hochschulsportzentrum Münster\, Horstmarer Landweg 86b\, 48149 Münster \nKosten pro Person: sh. Anmeldung \nAnmeldeschluss: 09.05.2025 \n  \nHier anmelden
URL:https://medizintechnik-bergmann.de/seminar/cortex-seminar-i-theorie-spiroergometrie-3/
CATEGORIES:Vor-Ort-Schulung
END:VEVENT
BEGIN:VEVENT
DTSTART;VALUE=DATE:20250514
DTEND;VALUE=DATE:20250515
DTSTAMP:20260422T121254
CREATED:20250210T134402Z
LAST-MODIFIED:20250210T143307Z
UID:1087-1747180800-1747267199@medizintechnik-bergmann.de
SUMMARY:cortex-Webinar "Möglichkeiten der Spiroergometrie"
DESCRIPTION:Uhrzeit: 15:00 Uhr \nZielgruppe: Interessenten \nVeranstaltungsort: Online per Microsoft Teams \nKosten pro Person: kostenlos \n  \nHier anmelden
URL:https://medizintechnik-bergmann.de/seminar/cortex-webinar-moeglichkeiten-der-spiroergometrie-2/
CATEGORIES:Online-Schulung
END:VEVENT
BEGIN:VEVENT
DTSTART;VALUE=DATE:20250507
DTEND;VALUE=DATE:20250508
DTSTAMP:20260422T121254
CREATED:20250210T133114Z
LAST-MODIFIED:20250210T133350Z
UID:1077-1746576000-1746662399@medizintechnik-bergmann.de
SUMMARY:Vor-Ort-Schulung "Funktionsdiagnostik Kompakt"
DESCRIPTION:Uhrzeit: 14:30-17:00 Uhr \nZielgruppe: med. Fachangestellte \nVeranstaltungsort: Ostring 5\, 97255 Sonderhofen \nKosten pro Person: 39\,– zzgl. MwSt. \n  \nAnmeldungen sind für diese Veranstaltung geschlossen
URL:https://medizintechnik-bergmann.de/seminar/vor-ort-schulung-funktionsdiagnostik-kompaktostik-kompakt/
CATEGORIES:Vor-Ort-Schulung
END:VEVENT
BEGIN:VEVENT
DTSTART;TZID=Europe/Berlin:20250417T140000
DTEND;TZID=Europe/Berlin:20250417T163000
DTSTAMP:20260422T121254
CREATED:20250210T133607Z
LAST-MODIFIED:20260318T140045Z
UID:1084-1744898400-1744907400@medizintechnik-bergmann.de
SUMMARY:Vor-Ort-Schulung "LZ-EKG-Auswertung mit KI"
DESCRIPTION:Uhrzeit: 14:00-16:30 Uhr \nZielgruppe: Ärztliches Personal/Klinikfachpersonal \nVeranstaltungsort: Ostring 5\, 97255 Sonderhofen \nKosten pro Person: 49\,– zzgl. MwSt. \nAnmeldungen sind für diese Veranstaltung geschlossen
URL:https://medizintechnik-bergmann.de/seminar/vor-ort-schulung-lz-ekg-auswertung-mit-ki/
CATEGORIES:Vor-Ort-Schulung
END:VEVENT
BEGIN:VEVENT
DTSTART;TZID=Europe/Berlin:20250404T100000
DTEND;TZID=Europe/Berlin:20250405T160000
DTSTAMP:20260422T121254
CREATED:20250210T140710Z
LAST-MODIFIED:20250210T140710Z
UID:1100-1743760800-1743868800@medizintechnik-bergmann.de
SUMMARY:cortex "Seminar II Praxis Spiroergometrie"
DESCRIPTION:Uhrzeit: sh. Anmeldung \nZielgruppe: Ärztliches Personal/Klinikfachpersonal \nVeranstaltungsort: Hochschulsportzentrum Münster\, Horstmarer Landweg 86b\, 48149 Münster \nKosten pro Person: sh. Anmeldung \nAnmeldeschluss: 28.03.2025 \n\n  \nHier anmelden
URL:https://medizintechnik-bergmann.de/seminar/cortex-seminar-ii-praxis-spiroergometrie-4/
CATEGORIES:Vor-Ort-Schulung
END:VEVENT
BEGIN:VEVENT
DTSTART;VALUE=DATE:20250306
DTEND;VALUE=DATE:20250307
DTSTAMP:20260422T121254
CREATED:20250210T135035Z
LAST-MODIFIED:20250210T143238Z
UID:1090-1741219200-1741305599@medizintechnik-bergmann.de
SUMMARY:cortex-Webinar "Möglichkeiten der Spiroergometrie"
DESCRIPTION:Uhrzeit: 15:00 Uhr \nZielgruppe: Interessenten \nVeranstaltungsort: Online per Microsoft Teams \nKosten pro Person: kostenlos \n  \nHier anmelden
URL:https://medizintechnik-bergmann.de/seminar/cortex-webinar-moeglichkeiten-der-spiroergometrie/
CATEGORIES:Online-Schulung
END:VEVENT
BEGIN:VEVENT
DTSTART;TZID=Europe/Berlin:20241106T140000
DTEND;TZID=Europe/Berlin:20241106T163000
DTSTAMP:20260422T121254
CREATED:20240307T153002Z
LAST-MODIFIED:20240307T153653Z
UID:918-1730901600-1730910600@medizintechnik-bergmann.de
SUMMARY:Vor-Ort-Schulung "LZ-EKG-Auswertung 4.0"
DESCRIPTION:Uhrzeit: 14:00-16:30 Uhr \nZielgruppe: Ärztliches Personal/Klinikfachpersonal \nVeranstaltungsort: Ostring 5\, 97255 Sonderhofen \nKosten pro Person: 49\,– zzgl. MwSt. \nAnmeldungen sind für diese Veranstaltung geschlossen
URL:https://medizintechnik-bergmann.de/seminar/vor-ort-schulung-lz-ekg-auswertung-4-0-2-2-2/
CATEGORIES:Vor-Ort-Schulung
END:VEVENT
BEGIN:VEVENT
DTSTART;TZID=Europe/Berlin:20241016T143000
DTEND;TZID=Europe/Berlin:20241016T170000
DTSTAMP:20260422T121254
CREATED:20240307T152615Z
LAST-MODIFIED:20240307T153759Z
UID:910-1729089000-1729098000@medizintechnik-bergmann.de
SUMMARY:Vor-Ort-Schulung "Funktionsdiagnostik Kompakt"
DESCRIPTION:Uhrzeit: 14:30-17:00 Uhr \nZielgruppe: med. Fachangestellte \nVeranstaltungsort: Ostring 5\, 97255 Sonderhofen \nKosten pro Person: 39\,– zzgl. MwSt. \n  \nAnmeldungen sind für diese Veranstaltung geschlossen
URL:https://medizintechnik-bergmann.de/seminar/vor-ort-schulung-funktionsdiagnostik-kompaktostik-kompakt-2-2/
CATEGORIES:Online-Schulung
END:VEVENT
BEGIN:VEVENT
DTSTART;TZID=Europe/Berlin:20240612T140000
DTEND;TZID=Europe/Berlin:20240612T163000
DTSTAMP:20260422T121254
CREATED:20240307T152813Z
LAST-MODIFIED:20240307T153855Z
UID:913-1718200800-1718209800@medizintechnik-bergmann.de
SUMMARY:Vor-Ort-Schulung "LZ-EKG-Auswertung 4.0"
DESCRIPTION:Uhrzeit: 14:00-16:30 Uhr \nZielgruppe: Ärztliches Personal/Klinikfachpersonal \nVeranstaltungsort: Ostring 5\, 97255 Sonderhofen \nKosten pro Person: 49\,– zzgl. MwSt. \nAnmeldungen sind für diese Veranstaltung geschlossen
URL:https://medizintechnik-bergmann.de/seminar/vor-ort-schulung-lz-ekg-auswertung-4-0-2-2/
CATEGORIES:Vor-Ort-Schulung
END:VEVENT
BEGIN:VEVENT
DTSTART;TZID=Europe/Berlin:20240605T143000
DTEND;TZID=Europe/Berlin:20240605T170000
DTSTAMP:20260422T121254
CREATED:20230225T190805Z
LAST-MODIFIED:20240418T145344Z
UID:634-1717597800-1717606800@medizintechnik-bergmann.de
SUMMARY:Vor-Ort-Schulung "Funktionsdiagnostik Kompakt"
DESCRIPTION:Uhrzeit: 14:30-17:00 Uhr \nZielgruppe: med. Fachangestellte \nVeranstaltungsort: Ostring 5\, 97255 Sonderhofen \nKosten pro Person: 39\,– zzgl. MwSt. \n  \nAnmeldungen sind für diese Veranstaltung geschlossen
URL:https://medizintechnik-bergmann.de/seminar/vor-ort-schulung-funktionsdiagnostik-kompaktostik-kompakt-2/
CATEGORIES:Online-Schulung
END:VEVENT
BEGIN:VEVENT
DTSTART;TZID=Europe/Berlin:20240419T130000
DTEND;TZID=Europe/Berlin:20240420T170000
DTSTAMP:20260422T121254
CREATED:20240307T152041Z
LAST-MODIFIED:20240307T152041Z
UID:905-1713531600-1713632400@medizintechnik-bergmann.de
SUMMARY:cortex "Seminar I Theorie Spiroergometrie"
DESCRIPTION:Uhrzeit: sh. Anmeldung \nZielgruppe: Ärztliches Personal/Klinikfachpersonal \nVeranstaltungsort: Münster (Präsenz) \nKosten pro Person: sh. Anmeldung \n  \nHier anmelden
URL:https://medizintechnik-bergmann.de/seminar/cortex-seminar-ii-praxis-spiroergometrie-3-2/
CATEGORIES:externe Schulung
END:VEVENT
BEGIN:VEVENT
DTSTART;TZID=Europe/Berlin:20240315T100000
DTEND;TZID=Europe/Berlin:20240316T160000
DTSTAMP:20260422T121254
CREATED:20240307T151556Z
LAST-MODIFIED:20240307T151717Z
UID:901-1710496800-1710604800@medizintechnik-bergmann.de
SUMMARY:cortex "Seminar II Praxis Spiroergometrie"
DESCRIPTION:Uhrzeit: sh. Anmeldung \nZielgruppe: Ärztliches Personal/Klinikfachpersonal \nVeranstaltungsort: Münster (Präsenz) \nKosten pro Person: sh. Anmeldung \n  \nHier anmelden
URL:https://medizintechnik-bergmann.de/seminar/cortex-seminar-ii-praxis-spiroergometrie-3/
CATEGORIES:externe Schulung
END:VEVENT
BEGIN:VEVENT
DTSTART;VALUE=DATE:20231027
DTEND;VALUE=DATE:20231029
DTSTAMP:20260422T121254
CREATED:20230225T190710Z
LAST-MODIFIED:20230405T085916Z
UID:632-1698364800-1698537599@medizintechnik-bergmann.de
SUMMARY:cortex "Seminar I Theorie Spiroergometrie"
DESCRIPTION:Uhrzeit: Fr. 14:00 Uhr – Sa. 17:00 Uhr \nZielgruppe: Ärztliches Personal/Klinikfachpersonal \nVeranstaltungsort: Münster (Präsenz) \nKosten pro Person: sh. Anmeldung \n  \nHier anmelden
URL:https://medizintechnik-bergmann.de/seminar/cortex-seminar-i-theorie-spiroergometrie-2/
CATEGORIES:externe Schulung
END:VEVENT
BEGIN:VEVENT
DTSTART;VALUE=DATE:20231011
DTEND;VALUE=DATE:20231012
DTSTAMP:20260422T121254
CREATED:20230225T190610Z
LAST-MODIFIED:20230405T085850Z
UID:630-1696982400-1697068799@medizintechnik-bergmann.de
SUMMARY:Vor-Ort-Schulung "LZ-EKG-Auswertung 4.0"
DESCRIPTION:Uhrzeit: 14:00-16:30 Uhr \nZielgruppe: Ärztliches Personal/Klinikfachpersonal \nVeranstaltungsort: Ostring 5\, 97255 Sonderhofen \nKosten pro Person: 45\,– zzgl. MwSt. \nAnmeldungen sind für diese Veranstaltung geschlossen
URL:https://medizintechnik-bergmann.de/seminar/vor-ort-schulung-lz-ekg-auswertung-4-0-2/
CATEGORIES:Vor-Ort-Schulung
END:VEVENT
BEGIN:VEVENT
DTSTART;VALUE=DATE:20230929
DTEND;VALUE=DATE:20231001
DTSTAMP:20260422T121254
CREATED:20230225T190459Z
LAST-MODIFIED:20230405T085837Z
UID:628-1695945600-1696118399@medizintechnik-bergmann.de
SUMMARY:cortex "Seminar II Praxis Spiroergometrie"
DESCRIPTION:Uhrzeit: sh. Anmeldung \nZielgruppe: Ärztliches Personal/Klinikfachpersonal \nVeranstaltungsort: Münster (Präsenz) \nKosten pro Person: sh. Anmeldung \n  \nHier anmelden
URL:https://medizintechnik-bergmann.de/seminar/cortex-seminar-ii-praxis-spiroergometrie-2/
CATEGORIES:externe Schulung
END:VEVENT
BEGIN:VEVENT
DTSTART;VALUE=DATE:20230825
DTEND;VALUE=DATE:20230827
DTSTAMP:20260422T121254
CREATED:20230225T190418Z
LAST-MODIFIED:20230405T085822Z
UID:626-1692921600-1693094399@medizintechnik-bergmann.de
SUMMARY:cortex Zoom-Webinar "Spiroergometrie-Kurs"
DESCRIPTION:Uhrzeit: Fr. 14:00 Uhr – Sa. 15:00Uhr \nZielgruppe: Ärztliches Personal/Klinikfachpersonal \nVeranstaltungsort: sh. Anmeldung \nKosten pro Person: sh. Anmeldung \n  \nHier anmelden
URL:https://medizintechnik-bergmann.de/seminar/cortex-zoom-webinar-spiroergometrie-kurs/
CATEGORIES:Online-Schulung
END:VEVENT
BEGIN:VEVENT
DTSTART;VALUE=DATE:20230621
DTEND;VALUE=DATE:20230622
DTSTAMP:20260422T121254
CREATED:20230224T144052Z
LAST-MODIFIED:20230405T085719Z
UID:622-1687305600-1687391999@medizintechnik-bergmann.de
SUMMARY:Vor-Ort-Schulung "Funktionsdiagnostik Kompakt"
DESCRIPTION:Uhrzeit: 14:30-17:00 Uhr \nZielgruppe: med. Fachangestellte \nVeranstaltungsort: Ostring 5\, 97255 Sonderhofen \nKosten pro Person: 35\,– zzgl. MwSt. \nAnmeldungen sind für diese Veranstaltung geschlossen
URL:https://medizintechnik-bergmann.de/seminar/vor-ort-schulung-funktionsdiagnostik-kompakt/
CATEGORIES:Vor-Ort-Schulung
END:VEVENT
BEGIN:VEVENT
DTSTART;VALUE=DATE:20230426
DTEND;VALUE=DATE:20230427
DTSTAMP:20260422T121254
CREATED:20230224T143900Z
LAST-MODIFIED:20230405T085703Z
UID:620-1682467200-1682553599@medizintechnik-bergmann.de
SUMMARY:Vor-Ort-Schulung "LZ-EKG-Auswertung 4.0"
DESCRIPTION:Uhrzeit: 14:00-16:30 Uhr \nZielgruppe: Ärztliches Personal/Klinikfachpersonal \nVeranstaltungsort: Ostring 5\, 97255 Sonderhofen \nKosten pro Person: 45\,– zzgl. MwSt. \nAnmeldungen sind für diese Veranstaltung geschlossen
URL:https://medizintechnik-bergmann.de/seminar/vor-ort-schulung-lz-ekg-auswertung-4-0/
CATEGORIES:Vor-Ort-Schulung
END:VEVENT
BEGIN:VEVENT
DTSTART;VALUE=DATE:20230421
DTEND;VALUE=DATE:20230423
DTSTAMP:20260422T121254
CREATED:20230224T143413Z
LAST-MODIFIED:20230405T085635Z
UID:611-1682035200-1682207999@medizintechnik-bergmann.de
SUMMARY:cortex "Seminar I Theorie Spiroergometrie"
DESCRIPTION:Uhrzeit: Fr. 14:00 Uhr–Sa. 17:00 Uhr \nZielgruppe: Ärztliches Personal/Klinikfachpersonal \nVeranstaltungsort: Münster (Präsenz) \nKosten pro Person: sh. Anmeldung \n  \nHier anmelden \n  \n  \n 
URL:https://medizintechnik-bergmann.de/seminar/cortex-seminar-i-theorie-spiroergometrie/
CATEGORIES:externe Schulung
END:VEVENT
BEGIN:VEVENT
DTSTART;VALUE=DATE:20230329
DTEND;VALUE=DATE:20230330
DTSTAMP:20260422T121254
CREATED:20230224T143632Z
LAST-MODIFIED:20230405T085533Z
UID:615-1680048000-1680134399@medizintechnik-bergmann.de
SUMMARY:Online-Schulung "Funktionsdiagnostik Kompakt"
DESCRIPTION:Uhrzeit: 14:30-17:00 Uhr \nZielgruppe: med. Fachangestellte \nVeranstaltungsort: Online-Schulung \nKosten pro Person: 35\,– zzgl. MwSt. \n  \nAnmeldungen sind für diese Veranstaltung geschlossen
URL:https://medizintechnik-bergmann.de/seminar/online-schulung-funktionsdiagnostik-kompakt/
CATEGORIES:Online-Schulung
END:VEVENT
BEGIN:VEVENT
DTSTART;VALUE=DATE:20230210
DTEND;VALUE=DATE:20230212
DTSTAMP:20260422T121254
CREATED:20230224T143212Z
LAST-MODIFIED:20230405T085505Z
UID:608-1675987200-1676159999@medizintechnik-bergmann.de
SUMMARY:cortex "Seminar II Praxis Spiroergometrie"
DESCRIPTION:Uhrzeit: sh. Anmeldung \nZielgruppe: Ärztliches Personal/Klinikfachpersonal \nVeranstaltungsort: Münster (Präsenz) \nKosten pro Person: sh. Anmeldung \n  \nHier anmelden
URL:https://medizintechnik-bergmann.de/seminar/cortex-seminar-ii-praxis-spiroergometrie/
CATEGORIES:externe Schulung
END:VEVENT
END:VCALENDAR